BEGIN:VCALENDAR
VERSION:2.0
PRODID:-//Groupe des Ainés du Poyet - ECPv6.15.20//NONSGML v1.0//EN
CALSCALE:GREGORIAN
METHOD:PUBLISH
X-WR-CALNAME:Groupe des Ainés du Poyet
X-ORIGINAL-URL:https://gap-moudon.ch
X-WR-CALDESC:Évènements pour Groupe des Ainés du Poyet
REFRESH-INTERVAL;VALUE=DURATION:PT1H
X-Robots-Tag:noindex
X-PUBLISHED-TTL:PT1H
BEGIN:VTIMEZONE
TZID:Europe/Zurich
BEGIN:DAYLIGHT
TZOFFSETFROM:+0100
TZOFFSETTO:+0200
TZNAME:CEST
DTSTART:20230326T010000
END:DAYLIGHT
BEGIN:STANDARD
TZOFFSETFROM:+0200
TZOFFSETTO:+0100
TZNAME:CET
DTSTART:20231029T010000
END:STANDARD
BEGIN:DAYLIGHT
TZOFFSETFROM:+0100
TZOFFSETTO:+0200
TZNAME:CEST
DTSTART:20240331T010000
END:DAYLIGHT
BEGIN:STANDARD
TZOFFSETFROM:+0200
TZOFFSETTO:+0100
TZNAME:CET
DTSTART:20241027T010000
END:STANDARD
BEGIN:DAYLIGHT
TZOFFSETFROM:+0100
TZOFFSETTO:+0200
TZNAME:CEST
DTSTART:20250330T010000
END:DAYLIGHT
BEGIN:STANDARD
TZOFFSETFROM:+0200
TZOFFSETTO:+0100
TZNAME:CET
DTSTART:20251026T010000
END:STANDARD
END:VTIMEZONE
BEGIN:VEVENT
DTSTART;TZID=Europe/Zurich:20241213T140000
DTEND;TZID=Europe/Zurich:20241213T163000
DTSTAMP:20260419T141012
CREATED:20240918T084010Z
LAST-MODIFIED:20240918T084010Z
UID:28909-1734098400-1734107400@gap-moudon.ch
SUMMARY:Fête de Noël
DESCRIPTION:Flûte et piano\nActivité animée par Isabelle et Hanny
URL:https://gap-moudon.ch/event/fete-de-noel/
LOCATION:Centre du Poyet\, Rue du Poyet 3\, Moudon\, 1510\, Switzerland
CATEGORIES:Fête de Noël,Musique
END:VEVENT
END:VCALENDAR