BEGIN:VCALENDAR
VERSION:2.0
PRODID:-//Groupe des Ainés du Poyet - ECPv6.15.20//NONSGML v1.0//EN
CALSCALE:GREGORIAN
METHOD:PUBLISH
X-ORIGINAL-URL:https://gap-moudon.ch
X-WR-CALDESC:Évènements pour Groupe des Ainés du Poyet
REFRESH-INTERVAL;VALUE=DURATION:PT1H
X-Robots-Tag:noindex
X-PUBLISHED-TTL:PT1H
BEGIN:VTIMEZONE
TZID:Europe/Zurich
BEGIN:DAYLIGHT
TZOFFSETFROM:+0100
TZOFFSETTO:+0200
TZNAME:CEST
DTSTART:20240331T010000
END:DAYLIGHT
BEGIN:STANDARD
TZOFFSETFROM:+0200
TZOFFSETTO:+0100
TZNAME:CET
DTSTART:20241027T010000
END:STANDARD
BEGIN:DAYLIGHT
TZOFFSETFROM:+0100
TZOFFSETTO:+0200
TZNAME:CEST
DTSTART:20250330T010000
END:DAYLIGHT
BEGIN:STANDARD
TZOFFSETFROM:+0200
TZOFFSETTO:+0100
TZNAME:CET
DTSTART:20251026T010000
END:STANDARD
BEGIN:DAYLIGHT
TZOFFSETFROM:+0100
TZOFFSETTO:+0200
TZNAME:CEST
DTSTART:20260329T010000
END:DAYLIGHT
BEGIN:STANDARD
TZOFFSETFROM:+0200
TZOFFSETTO:+0100
TZNAME:CET
DTSTART:20261025T010000
END:STANDARD
END:VTIMEZONE
BEGIN:VEVENT
DTSTART;TZID=Europe/Zurich:20250411T140000
DTEND;TZID=Europe/Zurich:20250411T163000
DTSTAMP:20260419T184237
CREATED:20240918T090838Z
LAST-MODIFIED:20240918T090947Z
UID:28917-1744380000-1744389000@gap-moudon.ch
SUMMARY:Loto et Assemblée générale
DESCRIPTION:Loto suivi de l’assemblée générale de l’association du Groupe des Ainés du Poyet (GAP) de Moudon\nActivité animée par le comité du GAP 
URL:https://gap-moudon.ch/event/loto/
LOCATION:Centre du Poyet\, Rue du Poyet 3\, Moudon\, 1510\, Switzerland
CATEGORIES:Assemblée Générale,Loto
END:VEVENT
END:VCALENDAR